BEGIN:VCALENDAR
VERSION:2.0
PRODID:-//Community Foundation of North Louisiana - ECPv6.15.20//NONSGML v1.0//EN
CALSCALE:GREGORIAN
METHOD:PUBLISH
X-ORIGINAL-URL:https://cfnla.org
X-WR-CALDESC:Events for Community Foundation of North Louisiana
REFRESH-INTERVAL;VALUE=DURATION:PT1H
X-Robots-Tag:noindex
X-PUBLISHED-TTL:PT1H
BEGIN:VTIMEZONE
TZID:America/Chicago
BEGIN:DAYLIGHT
TZOFFSETFROM:-0600
TZOFFSETTO:-0500
TZNAME:CDT
DTSTART:20240310T080000
END:DAYLIGHT
BEGIN:STANDARD
TZOFFSETFROM:-0500
TZOFFSETTO:-0600
TZNAME:CST
DTSTART:20241103T070000
END:STANDARD
BEGIN:DAYLIGHT
TZOFFSETFROM:-0600
TZOFFSETTO:-0500
TZNAME:CDT
DTSTART:20250309T080000
END:DAYLIGHT
BEGIN:STANDARD
TZOFFSETFROM:-0500
TZOFFSETTO:-0600
TZNAME:CST
DTSTART:20251102T070000
END:STANDARD
BEGIN:DAYLIGHT
TZOFFSETFROM:-0600
TZOFFSETTO:-0500
TZNAME:CDT
DTSTART:20260308T080000
END:DAYLIGHT
BEGIN:STANDARD
TZOFFSETFROM:-0500
TZOFFSETTO:-0600
TZNAME:CST
DTSTART:20261101T070000
END:STANDARD
END:VTIMEZONE
BEGIN:VEVENT
DTSTART;TZID=America/Chicago:20250917T113000
DTEND;TZID=America/Chicago:20250917T130000
DTSTAMP:20260420T081602
CREATED:20250807T140248Z
LAST-MODIFIED:20250820T192341Z
UID:3545-1758108600-1758114000@cfnla.org
SUMMARY:WPN Fall Lunch & Learn
DESCRIPTION:Impact Grantmaking: The Tools We Use to Make Philanthropic Investments\nWednesday\, September 17\, 2025 | 11:30-1:00 PM\nEast Ridge Country Club | Gallery Room\n1000 Stewart Drive\, Shreveport\, LA 71106\nJoin the Women’s Philanthropic Network and Community Foundation of North Louisiana on Wednesday\, September 17\, for our kickoff lunch and learn event. During this session\, we will review the WPNs’ grantmaking history and explore the criteria and tools used to evaluate proposals and programs. \nThe program will include remarks from WPN members\, Lucy Medvec (25-26 WPN Chair) and Rachel Lee Prestwood\, and CFNLA Staff\, Liz Laborde\, Chief Grants Officer\, Paige Carlisle\, Chief Financial Officer\, and Kristi Gustavson\, Chief Executive Officer. \nWe hope you will join us for this educational event. The ticket cost is $20. \nPlease purchase a ticket here.
URL:https://cfnla.org/event/wpn-lunch-learn-2/
LOCATION:East Ridge Country Club\, 1000 Stewart Drive\, Shreveport\, LA\, 71106
ATTACH;FMTTYPE=image/png:https://cfnla.org/wp-content/uploads/2025/08/e0a1c157-280c-1496-b09b-f43d5e157ee9.png
END:VEVENT
END:VCALENDAR