BEGIN:VCALENDAR
VERSION:2.0
PRODID:-//Community Foundation of North Louisiana - ECPv6.15.20//NONSGML v1.0//EN
CALSCALE:GREGORIAN
METHOD:PUBLISH
X-ORIGINAL-URL:https://cfnla.org
X-WR-CALDESC:Events for Community Foundation of North Louisiana
REFRESH-INTERVAL;VALUE=DURATION:PT1H
X-Robots-Tag:noindex
X-PUBLISHED-TTL:PT1H
BEGIN:VTIMEZONE
TZID:America/Chicago
BEGIN:DAYLIGHT
TZOFFSETFROM:-0600
TZOFFSETTO:-0500
TZNAME:CDT
DTSTART:20230312T080000
END:DAYLIGHT
BEGIN:STANDARD
TZOFFSETFROM:-0500
TZOFFSETTO:-0600
TZNAME:CST
DTSTART:20231105T070000
END:STANDARD
BEGIN:DAYLIGHT
TZOFFSETFROM:-0600
TZOFFSETTO:-0500
TZNAME:CDT
DTSTART:20240310T080000
END:DAYLIGHT
BEGIN:STANDARD
TZOFFSETFROM:-0500
TZOFFSETTO:-0600
TZNAME:CST
DTSTART:20241103T070000
END:STANDARD
BEGIN:DAYLIGHT
TZOFFSETFROM:-0600
TZOFFSETTO:-0500
TZNAME:CDT
DTSTART:20250309T080000
END:DAYLIGHT
BEGIN:STANDARD
TZOFFSETFROM:-0500
TZOFFSETTO:-0600
TZNAME:CST
DTSTART:20251102T070000
END:STANDARD
END:VTIMEZONE
BEGIN:VEVENT
DTSTART;TZID=America/Chicago:20240618T100000
DTEND;TZID=America/Chicago:20240618T123000
DTSTAMP:20260420T051219
CREATED:20240529T133304Z
LAST-MODIFIED:20240529T133304Z
UID:2670-1718704800-1718713800@cfnla.org
SUMMARY:Step Forward ACEs Parent Talk Series at Bayou Grande
DESCRIPTION:Step Forward is partnering with Volunteers of America’s Choice Neighborhoods and the Shreve Memorial Library to present the “Bouncin Back” Parent ACEs Talk to parents and caregivers with children enrolled in Head Start programs. Now\, more than ever parents and caregivers need access to the tools and resources that reduce trauma and encourage resiliency. The Parent ACEs Talks are safe settings where parents and caregivers can share their daily challenges\, learn ways to practice self-care\, and explore how to best support the developmental and social-emotional needs of their children. \n\nDate & Time: June 18 | 10:00 AM – 12:30 PM\nLocation: Bayou Grande (1061 Caddo Street\, Shreveport\, LA 71101)\nPlease register here.
URL:https://cfnla.org/event/step-forward-aces-parent-talk-series-at-bayou-grande/
LOCATION:Bayou Grande\, 1061 Caddo Street\, Shreveport\, LA\, 71101\, United States
ATTACH;FMTTYPE=image/png:https://cfnla.org/wp-content/uploads/2024/04/Screenshot-2024-04-26-at-2.19.33-PM.png
END:VEVENT
END:VCALENDAR