BEGIN:VCALENDAR
VERSION:2.0
PRODID:-//Community Foundation of North Louisiana - ECPv6.15.20//NONSGML v1.0//EN
CALSCALE:GREGORIAN
METHOD:PUBLISH
X-ORIGINAL-URL:https://cfnla.org
X-WR-CALDESC:Events for Community Foundation of North Louisiana
REFRESH-INTERVAL;VALUE=DURATION:PT1H
X-Robots-Tag:noindex
X-PUBLISHED-TTL:PT1H
BEGIN:VTIMEZONE
TZID:America/Chicago
BEGIN:DAYLIGHT
TZOFFSETFROM:-0600
TZOFFSETTO:-0500
TZNAME:CDT
DTSTART:20230312T080000
END:DAYLIGHT
BEGIN:STANDARD
TZOFFSETFROM:-0500
TZOFFSETTO:-0600
TZNAME:CST
DTSTART:20231105T070000
END:STANDARD
BEGIN:DAYLIGHT
TZOFFSETFROM:-0600
TZOFFSETTO:-0500
TZNAME:CDT
DTSTART:20240310T080000
END:DAYLIGHT
BEGIN:STANDARD
TZOFFSETFROM:-0500
TZOFFSETTO:-0600
TZNAME:CST
DTSTART:20241103T070000
END:STANDARD
BEGIN:DAYLIGHT
TZOFFSETFROM:-0600
TZOFFSETTO:-0500
TZNAME:CDT
DTSTART:20250309T080000
END:DAYLIGHT
BEGIN:STANDARD
TZOFFSETFROM:-0500
TZOFFSETTO:-0600
TZNAME:CST
DTSTART:20251102T070000
END:STANDARD
END:VTIMEZONE
BEGIN:VEVENT
DTSTART;TZID=America/Chicago:20240605T120000
DTEND;TZID=America/Chicago:20240605T140000
DTSTAMP:20260420T051235
CREATED:20240514T143635Z
LAST-MODIFIED:20240603T170935Z
UID:2616-1717588800-1717596000@cfnla.org
SUMMARY:CFNLA Maternal Health Speaker Series Event
DESCRIPTION:Registration is now closed for this event.\nPlease join Community Foundation of North Louisiana and the Women’s Philanthropy Network for a Lunch & Learn to discuss the importance of maternal and infant health. Dr. Veronica Gillispie-Bell will serve as the Keynote Speaker and will be joined by a panel of experts.  \nDate: Wednesday\, June 5th\, 2024 \nTime: 12:00 PM – 2:00 PM. Doors will open at 11:30 AM for check-in and the program will begin at promptly 12:15 PM. Light lunch will be provided. \nLocation: Ochsner LSU Health Shreveport – St. Mary Medical Center | Community Center Room (911 Margaret Place\, Shreveport\, LA 71101) \n\nParking is available in the lot adjacent to the Women’s and Children’s Center entrance (corner of Margaret Place and Warrington Place). Download a campus map here.\n\nRegistration is now closed for this event.
URL:https://cfnla.org/event/maternalhealthevent/
LOCATION:Ochsner LSU Health – St. Mary’s Medical Center\, 911 Margaret Place\, Shreveport\, LA\, 71101
ATTACH;FMTTYPE=image/jpeg:https://cfnla.org/wp-content/uploads/2024/05/Maternal-Health.jpeg
END:VEVENT
END:VCALENDAR